

BEGIN:VCALENDAR
VERSION:2.0
PRODID:-//eventon.com NONSGML v1.0//EN
BEGIN:VEVENT
UID:69eb9ed0bf72a
DTSTAMP:20260424T214816
DTSTART:20250322T210000Z
DTEND:20250322T220000Z
TZID:Pacific/Midway
LOCATION:YouTube 
SUMMARY:Самая частая боль
DESCRIPTION: Неврология в практике: боль\,  тревога\,  решение Екушева Евгения Викторовна Доктор медицинских наук\,  профессор\,  заведующая кафедрой нервных болезней и нейрореабилитации Академии последипломного образования\,  Россия. Описание лекции:Боль — это одна из самых распространенных причин обращения к врачу. В рамках лекции рассматриваются основные аспекты диагностики и лечения боли с неврологической точки зрения. 🔹[..]\nhttps://openolainfarm.uz/events/%d1%81%d0%b0%d0%bc%d0%b0%d1%8f-%d1%87%d0%b0%d1%81%d1%82%d0%b0%d1%8f-%d0%b1%d0%be%d0%bb%d1%8c/
URL:https://openolainfarm.uz/events/%d1%81%d0%b0%d0%bc%d0%b0%d1%8f-%d1%87%d0%b0%d1%81%d1%82%d0%b0%d1%8f-%d0%b1%d0%be%d0%bb%d1%8c/
END:VEVENT
END:VCALENDAR