

BEGIN:VCALENDAR
VERSION:2.0
PRODID:-//eventon.com NONSGML v1.0//EN
BEGIN:VEVENT
UID:69eb9ecec17fd
DTSTAMP:20260424T214814
DTSTART:20250322T210000Z
DTEND:20250322T220000Z
TZID:Pacific/Midway
LOCATION:YouTube 
SUMMARY:Тревожные расстройства в клинической практике: четкие стратегии при ведении пациентов
DESCRIPTION: Екушева Евгения ВикторовнаДоктор медицинских наук\,  профессор\,  заведующая кафедрой нервных болезней и нейрореабилитации Академии последипломного образования\,  Россия. Тревожные расстройства — одна из наиболее распространенных проблем в неврологии и психиатрии. Они не только ухудшают качество жизни пациентов\,  но и могут способствовать развитию соматических заболеваний. В рамках лекции рассматриваются современные стратегии ведения пациентов[..]\nhttps://openolainfarm.uz/events/%d1%82%d1%80%d0%b5%d0%b2%d0%be%d0%b6%d0%bd%d1%8b%d0%b5-%d1%80%d0%b0%d1%81%d1%81%d1%82%d1%80%d0%be%d0%b8%d1%81%d1%82%d0%b2%d0%b0-%d0%b2-%d0%ba%d0%bb%d0%b8%d0%bd%d0%b8%d1%87%d0%b5%d1%81%d0%ba%d0%be/
URL:https://openolainfarm.uz/events/%d1%82%d1%80%d0%b5%d0%b2%d0%be%d0%b6%d0%bd%d1%8b%d0%b5-%d1%80%d0%b0%d1%81%d1%81%d1%82%d1%80%d0%be%d0%b8%d1%81%d1%82%d0%b2%d0%b0-%d0%b2-%d0%ba%d0%bb%d0%b8%d0%bd%d0%b8%d1%87%d0%b5%d1%81%d0%ba%d0%be/
END:VEVENT
END:VCALENDAR