

BEGIN:VCALENDAR
VERSION:2.0
PRODID:-//eventon.com NONSGML v1.0//EN
BEGIN:VEVENT
UID:69ebb3a02962a
DTSTAMP:20260424T231704
DTSTART:20250322T210000Z
DTEND:20250322T220000Z
TZID:Pacific/Midway
LOCATION:YouTube 
SUMMARY:Проблемы антибиотикорезистентности в урологии
DESCRIPTION: Автор: Дмитрий Михайлович Ниткин Ведущий эксперт урологии\,  доктор медицинских наук\,  профессор кафедры урологии и нефрологии Белорусской медицинской академии последипломного образования\,  главный внештатный специалист по урологии и андрологии Министерства здравоохранения Республики Беларусь\,  г. Минск. Антибиотикорезистентность — одна из ключевых проблем современной медицины\,  особенно в урологии\,  где инфекции мочевыводящих путей (ИМВП) являются[..]\nhttps://openolainfarm.uz/events/%d0%bf%d1%80%d0%be%d0%b1%d0%bb%d0%b5%d0%bc%d1%8b-%d0%b0%d0%bd%d1%82%d0%b8%d0%b1%d0%b8%d0%be%d1%82%d0%b8%d0%ba%d0%be%d1%80%d0%b5%d0%b7%d0%b8%d1%81%d1%82%d0%b5%d0%bd%d1%82%d0%bd%d0%be%d1%81%d1%82%d0%b8/
URL:https://openolainfarm.uz/events/%d0%bf%d1%80%d0%be%d0%b1%d0%bb%d0%b5%d0%bc%d1%8b-%d0%b0%d0%bd%d1%82%d0%b8%d0%b1%d0%b8%d0%be%d1%82%d0%b8%d0%ba%d0%be%d1%80%d0%b5%d0%b7%d0%b8%d1%81%d1%82%d0%b5%d0%bd%d1%82%d0%bd%d0%be%d1%81%d1%82%d0%b8/
END:VEVENT
END:VCALENDAR